BEGIN:VCALENDAR
VERSION:2.0
PRODID:-//Highway 1 Karaoke - ECPv6.13.2.1//NONSGML v1.0//EN
CALSCALE:GREGORIAN
METHOD:PUBLISH
X-WR-CALNAME:Highway 1 Karaoke
X-ORIGINAL-URL:https://highway1karaoke.com
X-WR-CALDESC:Events for Highway 1 Karaoke
REFRESH-INTERVAL;VALUE=DURATION:PT1H
X-Robots-Tag:noindex
X-PUBLISHED-TTL:PT1H
BEGIN:VTIMEZONE
TZID:Asia/Katmandu
BEGIN:STANDARD
TZOFFSETFROM:+0545
TZOFFSETTO:+0545
TZNAME:+0545
DTSTART:20220101T000000
END:STANDARD
END:VTIMEZONE
BEGIN:VEVENT
DTSTART;TZID=Asia/Katmandu:20220905T080000
DTEND;TZID=Asia/Katmandu:20220905T170000
DTSTAMP:20260425T173736
CREATED:20220904T203935Z
LAST-MODIFIED:20220904T223528Z
UID:935-1662364800-1662397200@highway1karaoke.com
SUMMARY:Oct. 7th 2022
DESCRIPTION:
URL:https://highway1karaoke.com/event/oct-8th-2022/
END:VEVENT
END:VCALENDAR